BEGIN:VCALENDAR
VERSION:2.0
PRODID:-//May Farms - Outdoor Wedding Venue and Corporate Meeting Venue, Byers CO - ECPv6.15.20//NONSGML v1.0//EN
CALSCALE:GREGORIAN
METHOD:PUBLISH
X-WR-CALNAME:May Farms - Outdoor Wedding Venue and Corporate Meeting Venue, Byers CO
X-ORIGINAL-URL:https://mayfarms.com
X-WR-CALDESC:Events for May Farms - Outdoor Wedding Venue and Corporate Meeting Venue, Byers CO
REFRESH-INTERVAL;VALUE=DURATION:PT1H
X-Robots-Tag:noindex
X-PUBLISHED-TTL:PT1H
BEGIN:VTIMEZONE
TZID:America/Denver
BEGIN:DAYLIGHT
TZOFFSETFROM:-0700
TZOFFSETTO:-0600
TZNAME:MDT
DTSTART:20250309T090000
END:DAYLIGHT
BEGIN:STANDARD
TZOFFSETFROM:-0600
TZOFFSETTO:-0700
TZNAME:MST
DTSTART:20251102T080000
END:STANDARD
BEGIN:DAYLIGHT
TZOFFSETFROM:-0700
TZOFFSETTO:-0600
TZNAME:MDT
DTSTART:20260308T090000
END:DAYLIGHT
BEGIN:STANDARD
TZOFFSETFROM:-0600
TZOFFSETTO:-0700
TZNAME:MST
DTSTART:20261101T080000
END:STANDARD
BEGIN:DAYLIGHT
TZOFFSETFROM:-0700
TZOFFSETTO:-0600
TZNAME:MDT
DTSTART:20270314T090000
END:DAYLIGHT
BEGIN:STANDARD
TZOFFSETFROM:-0600
TZOFFSETTO:-0700
TZNAME:MST
DTSTART:20271107T080000
END:STANDARD
END:VTIMEZONE
BEGIN:VEVENT
DTSTART;TZID=America/Denver:20260206T160000
DTEND;TZID=America/Denver:20260206T200000
DTSTAMP:20260421T091326
CREATED:20260130T193642Z
LAST-MODIFIED:20260130T193642Z
UID:10224-1770393600-1770408000@mayfarms.com
SUMMARY:Food Truck Friday - Celtic Chicken
DESCRIPTION:
URL:https://mayfarms.com/event/food-truck-friday-celtic-chicken/
CATEGORIES:Food Truck Friday
ATTACH;FMTTYPE=image/jpeg:https://mayfarms.com/wp-content/uploads/2026/01/518423769_122129315762840884_5925372420113659421_n.jpg
END:VEVENT
BEGIN:VEVENT
DTSTART;TZID=America/Denver:20260213T160000
DTEND;TZID=America/Denver:20260213T200000
DTSTAMP:20260421T091326
CREATED:20260130T193832Z
LAST-MODIFIED:20260130T193832Z
UID:10227-1770998400-1771012800@mayfarms.com
SUMMARY:Food Truck Friday - Wheels on Fire
DESCRIPTION:
URL:https://mayfarms.com/event/food-truck-friday-wheels-on-fire/
CATEGORIES:Food Truck Friday
ATTACH;FMTTYPE=image/jpeg:https://mayfarms.com/wp-content/uploads/2026/01/Truck.jpg
END:VEVENT
BEGIN:VEVENT
DTSTART;TZID=America/Denver:20260220T160000
DTEND;TZID=America/Denver:20260220T200000
DTSTAMP:20260421T091326
CREATED:20260130T194046Z
LAST-MODIFIED:20260130T194046Z
UID:10230-1771603200-1771617600@mayfarms.com
SUMMARY:Food Truck Friday - High Country BBQ
DESCRIPTION:
URL:https://mayfarms.com/event/food-truck-friday-high-country-bbq-2/
CATEGORIES:Food Truck Friday
ATTACH;FMTTYPE=image/jpeg:https://mayfarms.com/wp-content/uploads/2025/12/2.jpg
END:VEVENT
BEGIN:VEVENT
DTSTART;TZID=America/Denver:20260227T160000
DTEND;TZID=America/Denver:20260227T200000
DTSTAMP:20260421T091326
CREATED:20260130T194149Z
LAST-MODIFIED:20260130T194149Z
UID:10232-1772208000-1772222400@mayfarms.com
SUMMARY:Food Truck Friday - Mother Clucker's Wings
DESCRIPTION:
URL:https://mayfarms.com/event/food-truck-friday-mother-cluckers-wings/
CATEGORIES:Food Truck Friday
ATTACH;FMTTYPE=image/jpeg:https://mayfarms.com/wp-content/uploads/2025/12/547198867_122213595206132893_3868916886918268723_n.jpg
END:VEVENT
END:VCALENDAR