BEGIN:VCALENDAR
VERSION:2.0
PRODID:-//May Farms - Outdoor Wedding Venue and Corporate Meeting Venue, Byers CO - ECPv6.15.20//NONSGML v1.0//EN
CALSCALE:GREGORIAN
METHOD:PUBLISH
X-ORIGINAL-URL:https://mayfarms.com
X-WR-CALDESC:Events for May Farms - Outdoor Wedding Venue and Corporate Meeting Venue, Byers CO
REFRESH-INTERVAL;VALUE=DURATION:PT1H
X-Robots-Tag:noindex
X-PUBLISHED-TTL:PT1H
BEGIN:VTIMEZONE
TZID:America/Denver
BEGIN:DAYLIGHT
TZOFFSETFROM:-0700
TZOFFSETTO:-0600
TZNAME:MDT
DTSTART:20250309T090000
END:DAYLIGHT
BEGIN:STANDARD
TZOFFSETFROM:-0600
TZOFFSETTO:-0700
TZNAME:MST
DTSTART:20251102T080000
END:STANDARD
BEGIN:DAYLIGHT
TZOFFSETFROM:-0700
TZOFFSETTO:-0600
TZNAME:MDT
DTSTART:20260308T090000
END:DAYLIGHT
BEGIN:STANDARD
TZOFFSETFROM:-0600
TZOFFSETTO:-0700
TZNAME:MST
DTSTART:20261101T080000
END:STANDARD
BEGIN:DAYLIGHT
TZOFFSETFROM:-0700
TZOFFSETTO:-0600
TZNAME:MDT
DTSTART:20270314T090000
END:DAYLIGHT
BEGIN:STANDARD
TZOFFSETFROM:-0600
TZOFFSETTO:-0700
TZNAME:MST
DTSTART:20271107T080000
END:STANDARD
END:VTIMEZONE
BEGIN:VEVENT
DTSTART;TZID=America/Denver:20260306T160000
DTEND;TZID=America/Denver:20260306T200000
DTSTAMP:20260421T073128
CREATED:20260219T170252Z
LAST-MODIFIED:20260219T170252Z
UID:10235-1772812800-1772827200@mayfarms.com
SUMMARY:Food Truck Friday - Smoke n Spuds
DESCRIPTION:* NEW TRUCK ALERT* We are super excited to welcome Smoke n Spuds to their first Food Truck Friday!
URL:https://mayfarms.com/event/food-truck-friday-smoke-n-spuds/
CATEGORIES:Food Truck Friday
ATTACH;FMTTYPE=image/jpeg:https://mayfarms.com/wp-content/uploads/2026/02/480289795_502464196223533_7127449790607700867_n.jpg
END:VEVENT
BEGIN:VEVENT
DTSTART;TZID=America/Denver:20260306T180000
DTEND;TZID=America/Denver:20260306T210000
DTSTAMP:20260421T073128
CREATED:20260123T184551Z
LAST-MODIFIED:20260123T184637Z
UID:10210-1772820000-1772830800@mayfarms.com
SUMMARY:Hat Painting Party - Friends don't let friends wear boring hats!
DESCRIPTION:If you loved Before the Bell Rings\, this one’s for you. Join us at May Farms for a relaxed\, guided hat-making experience where you’ll design a custom hat that’s stylish\, personal\, and totally wearable. I’ll walk you through the process step by step — no pressure\, no experience needed. Your ticket includes a drink from the bar\, plus plenty of laughs and creativity. Seats are limited.All sales final. Non-refundable. \nTickets
URL:https://mayfarms.com/event/10210/
CATEGORIES:Arts & Crafts,Food Truck Friday
END:VEVENT
BEGIN:VEVENT
DTSTART;VALUE=DATE:20260313
DTEND;VALUE=DATE:20260314
DTSTAMP:20260421T073128
CREATED:20260303T220727Z
LAST-MODIFIED:20260303T220727Z
UID:10253-1773360000-1773446399@mayfarms.com
SUMMARY:Closed for a Private Event
DESCRIPTION:
URL:https://mayfarms.com/event/closed-for-a-private-event/
CATEGORIES:Community Gathering,Food Truck Friday
END:VEVENT
BEGIN:VEVENT
DTSTART;TZID=America/Denver:20260320T160000
DTEND;TZID=America/Denver:20260320T200000
DTSTAMP:20260421T073128
CREATED:20260219T170418Z
LAST-MODIFIED:20260219T170418Z
UID:10238-1774022400-1774036800@mayfarms.com
SUMMARY:Food Truck Friday - 2 Salty Sarges
DESCRIPTION:
URL:https://mayfarms.com/event/food-truck-friday-2-salty-sarges-2/
CATEGORIES:Food Truck Friday
ATTACH;FMTTYPE=image/jpeg:https://mayfarms.com/wp-content/uploads/2025/12/480878553_615789957531557_8074221624564023578_n.jpg
END:VEVENT
BEGIN:VEVENT
DTSTART;TZID=America/Denver:20260327T160000
DTEND;TZID=America/Denver:20260327T200000
DTSTAMP:20260421T073128
CREATED:20260219T170617Z
LAST-MODIFIED:20260219T170617Z
UID:10240-1774627200-1774641600@mayfarms.com
SUMMARY:Food Truck Friday - Woodhill Small Batch BBQ
DESCRIPTION:
URL:https://mayfarms.com/event/food-truck-friday-woodhill-small-batch-bbq/
CATEGORIES:Food Truck Friday
ATTACH;FMTTYPE=image/jpeg:https://mayfarms.com/wp-content/uploads/2026/02/Woodhill-Small-Batch-BBQ.jpg
END:VEVENT
END:VCALENDAR