BEGIN:VCALENDAR
VERSION:2.0
PRODID:-//May Farms - Outdoor Wedding Venue and Corporate Meeting Venue, Byers CO - ECPv6.15.20//NONSGML v1.0//EN
CALSCALE:GREGORIAN
METHOD:PUBLISH
X-WR-CALNAME:May Farms - Outdoor Wedding Venue and Corporate Meeting Venue, Byers CO
X-ORIGINAL-URL:https://mayfarms.com
X-WR-CALDESC:Events for May Farms - Outdoor Wedding Venue and Corporate Meeting Venue, Byers CO
REFRESH-INTERVAL;VALUE=DURATION:PT1H
X-Robots-Tag:noindex
X-PUBLISHED-TTL:PT1H
BEGIN:VTIMEZONE
TZID:America/Denver
BEGIN:DAYLIGHT
TZOFFSETFROM:-0700
TZOFFSETTO:-0600
TZNAME:MDT
DTSTART:20250309T090000
END:DAYLIGHT
BEGIN:STANDARD
TZOFFSETFROM:-0600
TZOFFSETTO:-0700
TZNAME:MST
DTSTART:20251102T080000
END:STANDARD
BEGIN:DAYLIGHT
TZOFFSETFROM:-0700
TZOFFSETTO:-0600
TZNAME:MDT
DTSTART:20260308T090000
END:DAYLIGHT
BEGIN:STANDARD
TZOFFSETFROM:-0600
TZOFFSETTO:-0700
TZNAME:MST
DTSTART:20261101T080000
END:STANDARD
BEGIN:DAYLIGHT
TZOFFSETFROM:-0700
TZOFFSETTO:-0600
TZNAME:MDT
DTSTART:20270314T090000
END:DAYLIGHT
BEGIN:STANDARD
TZOFFSETFROM:-0600
TZOFFSETTO:-0700
TZNAME:MST
DTSTART:20271107T080000
END:STANDARD
END:VTIMEZONE
BEGIN:VEVENT
DTSTART;TZID=America/Denver:20260501T160000
DTEND;TZID=America/Denver:20260501T200000
DTSTAMP:20260421T072705
CREATED:20260410T211229Z
LAST-MODIFIED:20260410T211229Z
UID:10275-1777651200-1777665600@mayfarms.com
SUMMARY:Food Truck Friday - 2 Salty Sarges
DESCRIPTION:
URL:https://mayfarms.com/event/food-truck-friday-2-salty-sarges-3/
CATEGORIES:Food Truck Friday
ATTACH;FMTTYPE=image/jpeg:https://mayfarms.com/wp-content/uploads/2025/12/480878553_615789957531557_8074221624564023578_n.jpg
END:VEVENT
BEGIN:VEVENT
DTSTART;TZID=America/Denver:20260508T160000
DTEND;TZID=America/Denver:20260508T200000
DTSTAMP:20260421T072705
CREATED:20260410T211647Z
LAST-MODIFIED:20260410T211647Z
UID:10277-1778256000-1778270400@mayfarms.com
SUMMARY:Food Truck Friday - Samos Grill
DESCRIPTION:
URL:https://mayfarms.com/event/food-truck-friday-samos-grill/
CATEGORIES:Food Truck Friday
ATTACH;FMTTYPE=image/jpeg:https://mayfarms.com/wp-content/uploads/2026/04/482015404_612264088338880_7351042276186901097_n.jpg
END:VEVENT
BEGIN:VEVENT
DTSTART;TZID=America/Denver:20260515T160000
DTEND;TZID=America/Denver:20260515T200000
DTSTAMP:20260421T072705
CREATED:20260410T211745Z
LAST-MODIFIED:20260410T211745Z
UID:10280-1778860800-1778875200@mayfarms.com
SUMMARY:Food Truck Friday - High Country BBQ
DESCRIPTION:
URL:https://mayfarms.com/event/food-truck-friday-high-country-bbq-4/
CATEGORIES:Food Truck Friday
ATTACH;FMTTYPE=image/jpeg:https://mayfarms.com/wp-content/uploads/2025/12/2.jpg
END:VEVENT
BEGIN:VEVENT
DTSTART;TZID=America/Denver:20260529T180000
DTEND;TZID=America/Denver:20260529T200000
DTSTAMP:20260421T072705
CREATED:20260410T211102Z
LAST-MODIFIED:20260410T211102Z
UID:10272-1780077600-1780084800@mayfarms.com
SUMMARY:Don't Tread On My Doormat
DESCRIPTION:Get ready for a night full of laughs\, creativity\, and a little personality \nJoin us for our Don’t Tread on My Doormat party where you’ll design and paint your very own custom doormat—perfect for adding a fun (or slightly sassy ) touch to your front porch! Choose from a variety of designs and I’ll guide you step-by-step\, so no experience is needed.\nGrab a friend (or come make new ones!) and enjoy a relaxed\, feel-good night where you’ll leave with something you’ll actually use and love.\nAll supplies are included.\nAll Sales Final. Non-Refundable.\nReservations
URL:https://mayfarms.com/event/dont-tread-on-my-doormat/
CATEGORIES:Arts & Crafts,Food Truck Friday
ATTACH;FMTTYPE=image/jpeg:https://mayfarms.com/wp-content/uploads/2026/04/655438671_122293958480031728_1628835351622536242_n.jpg
END:VEVENT
END:VCALENDAR